BEGIN:VCALENDAR
VERSION:2.0
PRODID:-//hacksw/handcal//NONSGML v1.0//EN
CALSCALE:GREGORIAN
BEGIN:VEVENT
LOCATION:
SUMMARY:How to make our cities green and smart for real
DESCRIPTION:How to make our cities green and smart for real
DTSTART:20201028T100000
DTEND:20201028T120000
URL;VALUE=URI:https://energy-cities.eu/event/how-to-make-our-cities-green-and-smart-for-real/
DTSTAMP:now
UID:659767fd0c8b8
END:VEVENT
END:VCALENDAR