BEGIN:VCALENDAR
VERSION:2.0
PRODID:-//hacksw/handcal//NONSGML v1.0//EN
CALSCALE:GREGORIAN
BEGIN:VEVENT
LOCATION:
SUMMARY:How to mobilise towards the phasing-out of fossil fuels in buildings?
DESCRIPTION:How to mobilise towards the phasing-out of fossil fuels in buildings?
DTSTART:20231124T103000
DTEND:20231124T113000
URL;VALUE=URI:https://energy-cities.eu/event/how-to-mobilise-towards-the-phasing-out-of-fossil-fuels-in-buildings/
DTSTAMP:now
UID:659770572fe17
END:VEVENT
END:VCALENDAR