BEGIN:VCALENDAR
VERSION:2.0
PRODID:-//hacksw/handcal//NONSGML v1.0//EN
CALSCALE:GREGORIAN
BEGIN:VEVENT
LOCATION:
SUMMARY:How to set-up a One-Stop-Shop for home energy renovation?
DESCRIPTION:How to set-up a One-Stop-Shop for home energy renovation?
DTSTART:20200708T110000
DTEND:20200708T123000
URL;VALUE=URI:https://energy-cities.eu/event/how-to-set-up-a-one-stop-shop-for-home-energy-renovation/
DTSTAMP:now
UID:6597691365192
END:VEVENT
END:VCALENDAR