BEGIN:VCALENDAR
VERSION:2.0
PRODID:-//hacksw/handcal//NONSGML v1.0//EN
CALSCALE:GREGORIAN
BEGIN:VEVENT
LOCATION:
SUMMARY:How to surf a social renovation wave for a social european green deal
DESCRIPTION:How to surf a social renovation wave for a social european green deal
DTSTART:20200605T111100
DTEND:20200605T122200
URL;VALUE=URI:https://energy-cities.eu/event/how-to-surf-a-social-renovation-wave-for-a-social-european-green-deal/
DTSTAMP:now
UID:6597711c541b9
END:VEVENT
END:VCALENDAR