BEGIN:VCALENDAR
VERSION:2.0
PRODID:-//hacksw/handcal//NONSGML v1.0//EN
CALSCALE:GREGORIAN
BEGIN:VEVENT
LOCATION:
SUMMARY:How to win the Balkan air-pollution dodgeball? Regional Conference on air pollution solutions in the Balkans
DESCRIPTION:How to win the Balkan air-pollution dodgeball? Regional Conference on air pollution solutions in the Balkans
DTSTART:20201203T093000
DTEND:20201204T133000
URL;VALUE=URI:https://energy-cities.eu/event/how-to-win-the-balkan-air-pollution-dodgeball-regional-conference-on-air-pollution-solutions-in-the-balkans/
DTSTAMP:now
UID:659767b6d4263
END:VEVENT
END:VCALENDAR