BEGIN:VCALENDAR
VERSION:2.0
PRODID:-//hacksw/handcal//NONSGML v1.0//EN
CALSCALE:GREGORIAN
BEGIN:VEVENT
LOCATION:
SUMMARY:IEA-COP26 Net Zero Summit
DESCRIPTION:IEA-COP26 Net Zero Summit
DTSTART:20210331T120000
DTEND:20210331T150000
URL;VALUE=URI:https://energy-cities.eu/event/iea-cop26-net-zero-summit/
DTSTAMP:now
UID:659776973295a
END:VEVENT
END:VCALENDAR