BEGIN:VCALENDAR
VERSION:2.0
PRODID:-//hacksw/handcal//NONSGML v1.0//EN
CALSCALE:GREGORIAN
BEGIN:VEVENT
LOCATION:
SUMMARY:IUC Final City-to-City Event
DESCRIPTION:IUC Final City-to-City Event
DTSTART:20201203T090000
DTEND:20201203T173000
URL;VALUE=URI:https://energy-cities.eu/event/iuc-final-city-to-city-event/
DTSTAMP:now
UID:65976a427cbf1
END:VEVENT
END:VCALENDAR