BEGIN:VCALENDAR
VERSION:2.0
PRODID:-//hacksw/handcal//NONSGML v1.0//EN
CALSCALE:GREGORIAN
BEGIN:VEVENT
LOCATION:
SUMMARY:IUC webinar &#8211\; From a linear to a circular economy &#8211\; How to start ?
DESCRIPTION:IUC webinar &#8211\; From a linear to a circular economy &#8211\; How to start ?
DTSTART:20190514T093000
DTEND:20190514T110000
URL;VALUE=URI:https://energy-cities.eu/fr/evenement/iuc-webinar-from-a-linear-to-a-circular-economy-how-to-start/
DTSTAMP:now
UID:6597765f7b1c1
END:VEVENT
END:VCALENDAR