BEGIN:VCALENDAR
VERSION:2.0
PRODID:-//hacksw/handcal//NONSGML v1.0//EN
CALSCALE:GREGORIAN
BEGIN:VEVENT
LOCATION:
SUMMARY:Implementing NECPs effectively: multistakeholder dialogue for Hungary
DESCRIPTION:Implementing NECPs effectively: multistakeholder dialogue for Hungary
DTSTART:20201020T100000
DTEND:20201020T133000
URL;VALUE=URI:https://energy-cities.eu/event/implementing-necps-effectively-multistakeholder-dialogue-for-hungary/
DTSTAMP:now
UID:65976db729ecb
END:VEVENT
END:VCALENDAR