BEGIN:VCALENDAR
VERSION:2.0
PRODID:-//hacksw/handcal//NONSGML v1.0//EN
CALSCALE:GREGORIAN
BEGIN:VEVENT
LOCATION:
SUMMARY:Innovation &#038\; impact: Good practices in energy efficiency for buildings in Mediterranean cities
DESCRIPTION:Innovation &#038\; impact: Good practices in energy efficiency for buildings in Mediterranean cities
DTSTART:20220224T100000
DTEND:20220224T130000
URL;VALUE=URI:https://energy-cities.eu/event/innovation-impact-good-practices-in-energy-efficiency-building-in-mediterranean-cities/
DTSTAMP:now
UID:65976d08ae2d7
END:VEVENT
END:VCALENDAR