BEGIN:VCALENDAR
VERSION:2.0
PRODID:-//hacksw/handcal//NONSGML v1.0//EN
CALSCALE:GREGORIAN
BEGIN:VEVENT
LOCATION:
SUMMARY:Innovation &#038\; impact : bonnes pratiques en matière d’efficacité énergétique pour les bâtiments des villes méditerranéennes
DESCRIPTION:Innovation &#038\; impact : bonnes pratiques en matière d’efficacité énergétique pour les bâtiments des villes méditerranéennes
DTSTART:20220224T100000
DTEND:20220224T130000
URL;VALUE=URI:https://energy-cities.eu/fr/evenement/innovation-impact-bonnes-pratiques-en-matiere-defficacite-energetique-pour-les-batiments-des-villes-mediterraneennes/
DTSTAMP:now
UID:65976af1dd722
END:VEVENT
END:VCALENDAR