BEGIN:VCALENDAR
VERSION:2.0
PRODID:-//hacksw/handcal//NONSGML v1.0//EN
CALSCALE:GREGORIAN
BEGIN:VEVENT
LOCATION:
SUMMARY:Innovative financing through peer learning : Province of Girona’s experience in PROSPECT
DESCRIPTION:Innovative financing through peer learning : Province of Girona’s experience in PROSPECT
DTSTART:20190703T103000
DTEND:20190703T113000
URL;VALUE=URI:https://energy-cities.eu/fr/evenement/webinar-innovative-financing-through-peer-learning-province-of-gironas-experience-in-prospect/
DTSTAMP:now
UID:6597702983ea2
END:VEVENT
END:VCALENDAR