BEGIN:VCALENDAR
VERSION:2.0
PRODID:-//hacksw/handcal//NONSGML v1.0//EN
CALSCALE:GREGORIAN
BEGIN:VEVENT
LOCATION:
SUMMARY:Innovative governance after the 10th World Urban Forum: How can local authorities benefit from rethinking governance?
DESCRIPTION:Innovative governance after the 10th World Urban Forum: How can local authorities benefit from rethinking governance?
DTSTART:20200320T130000
DTEND:20200320T140000
URL;VALUE=URI:https://energy-cities.eu/event/innovative-governance-after-the-10th-world-urban-forum-how-can-local-authorities-benefit-from-rethinking-governance/
DTSTAMP:now
UID:65976936e0890
END:VEVENT
END:VCALENDAR