BEGIN:VCALENDAR
VERSION:2.0
PRODID:-//hacksw/handcal//NONSGML v1.0//EN
CALSCALE:GREGORIAN
BEGIN:VEVENT
LOCATION:
SUMMARY:Inside the Circular Economy: Beyond the Basics
DESCRIPTION:Inside the Circular Economy: Beyond the Basics
DTSTART:20210317T000000
DTEND:20210430T000000
URL;VALUE=URI:https://energy-cities.eu/event/inside-the-circular-economy-beyond-the-basics/
DTSTAMP:now
UID:6597684c050b0
END:VEVENT
END:VCALENDAR