BEGIN:VCALENDAR
VERSION:2.0
PRODID:-//hacksw/handcal//NONSGML v1.0//EN
CALSCALE:GREGORIAN
BEGIN:VEVENT
LOCATION:
SUMMARY:Integrated Renovation Programmes and One-Stop-Shops: the Innovate experience
DESCRIPTION:Integrated Renovation Programmes and One-Stop-Shops: the Innovate experience
DTSTART:20200520T150000
DTEND:20200520T161500
URL;VALUE=URI:https://energy-cities.eu/event/integrated-renovation-programmes-and-one-stop-shops-the-innovate-experience/
DTSTAMP:now
UID:6597698f4bdaa
END:VEVENT
END:VCALENDAR