BEGIN:VCALENDAR
VERSION:2.0
PRODID:-//hacksw/handcal//NONSGML v1.0//EN
CALSCALE:GREGORIAN
BEGIN:VEVENT
LOCATION:
SUMMARY:Integrated home renovation services in Europe
DESCRIPTION:Integrated home renovation services in Europe
DTSTART:20210226T100000
DTEND:20210226T120000
URL;VALUE=URI:https://energy-cities.eu/event/integrated-home-renovation-services-in-europe/
DTSTAMP:now
UID:65976b0c7672a
END:VEVENT
END:VCALENDAR