BEGIN:VCALENDAR
VERSION:2.0
PRODID:-//hacksw/handcal//NONSGML v1.0//EN
CALSCALE:GREGORIAN
BEGIN:VEVENT
LOCATION:
SUMMARY:Integrating Mitigation and Adaptation for more effective Climate Action
DESCRIPTION:Integrating Mitigation and Adaptation for more effective Climate Action
DTSTART:20191212T110000
DTEND:20191212T003000
URL;VALUE=URI:https://energy-cities.eu/event/integrating-mitigation-and-adaptation-for-more-effective-climate-action/
DTSTAMP:now
UID:65976fd65a983
END:VEVENT
END:VCALENDAR