BEGIN:VCALENDAR
VERSION:2.0
PRODID:-//hacksw/handcal//NONSGML v1.0//EN
CALSCALE:GREGORIAN
BEGIN:VEVENT
LOCATION:
SUMMARY:International Energy Poverty Action Week 2023
DESCRIPTION:International Energy Poverty Action Week 2023
DTSTART:20230220T000000
DTEND:20230224T000000
URL;VALUE=URI:https://energy-cities.eu/event/international-energy-poverty-action-week-2023/
DTSTAMP:now
UID:65976d97a32d0
END:VEVENT
END:VCALENDAR