BEGIN:VCALENDAR
VERSION:2.0
PRODID:-//hacksw/handcal//NONSGML v1.0//EN
CALSCALE:GREGORIAN
BEGIN:VEVENT
LOCATION:
SUMMARY:International Town Twinning Summit
DESCRIPTION:International Town Twinning Summit
DTSTART:20201112T000000
DTEND:20201113T000000
URL;VALUE=URI:https://energy-cities.eu/event/international-town-twinning-summit/
DTSTAMP:now
UID:659763c229851
END:VEVENT
END:VCALENDAR