BEGIN:VCALENDAR
VERSION:2.0
PRODID:-//hacksw/handcal//NONSGML v1.0//EN
CALSCALE:GREGORIAN
BEGIN:VEVENT
LOCATION:
SUMMARY:Interreg Europe\, let&#8217\;s cooperate! 2020
DESCRIPTION:Interreg Europe\, let&#8217\;s cooperate! 2020
DTSTART:20200609T100000
DTEND:20200609T113000
URL;VALUE=URI:https://energy-cities.eu/event/interreg-europe-lets-cooperate-2020/
DTSTAMP:now
UID:659764849d7ae
END:VEVENT
END:VCALENDAR