BEGIN:VCALENDAR
VERSION:2.0
PRODID:-//hacksw/handcal//NONSGML v1.0//EN
CALSCALE:GREGORIAN
BEGIN:VEVENT
LOCATION:
SUMMARY:Interreg NWE networking event #1: A Greener North-West Europe
DESCRIPTION:Interreg NWE networking event #1: A Greener North-West Europe
DTSTART:20210520T100000
DTEND:20210520T120000
URL;VALUE=URI:https://energy-cities.eu/event/interreg-nwe-networking-event-1-a-greener-north-west-europe/
DTSTAMP:now
UID:659777c5a33c8
END:VEVENT
END:VCALENDAR