BEGIN:VCALENDAR
VERSION:2.0
PRODID:-//hacksw/handcal//NONSGML v1.0//EN
CALSCALE:GREGORIAN
BEGIN:VEVENT
LOCATION:
SUMMARY:Introduction aux programmes européens à destination des collectivités locales françaises et des ALECs
DESCRIPTION:Introduction aux programmes européens à destination des collectivités locales françaises et des ALECs
DTSTART:20220701T133000
DTEND:20220701T153000
URL;VALUE=URI:https://energy-cities.eu/fr/evenement/introduction-aux-programmes-europeens-a-destination-des-collectivites-locales-francaises-et-des-alecs/
DTSTAMP:now
UID:65976d89e511e
END:VEVENT
END:VCALENDAR