BEGIN:VCALENDAR
VERSION:2.0
PRODID:-//hacksw/handcal//NONSGML v1.0//EN
CALSCALE:GREGORIAN
BEGIN:VEVENT
LOCATION:
SUMMARY:Involving stakeholders and the public in national energy and climate planning &#8211\; good practices from across Europe
DESCRIPTION:Involving stakeholders and the public in national energy and climate planning &#8211\; good practices from across Europe
DTSTART:20190627T100000
DTEND:20190627T113000
URL;VALUE=URI:https://energy-cities.eu/event/life-planup-webinar-involving-stakeholders-and-the-public-in-national-energy-and-climate-planning-good-practices-from-across-europe/
DTSTAMP:now
UID:659765a035991
END:VEVENT
END:VCALENDAR