BEGIN:VCALENDAR
VERSION:2.0
PRODID:-//hacksw/handcal//NONSGML v1.0//EN
CALSCALE:GREGORIAN
BEGIN:VEVENT
LOCATION:
SUMMARY:JPI Urban Europe Policy Conference 2020
DESCRIPTION:JPI Urban Europe Policy Conference 2020
DTSTART:20201112T000000
DTEND:20201112T000000
URL;VALUE=URI:https://energy-cities.eu/event/jpi-urban-europe-policy-conference-2020/
DTSTAMP:now
UID:659770c30dac0
END:VEVENT
END:VCALENDAR