BEGIN:VCALENDAR
VERSION:2.0
PRODID:-//hacksw/handcal//NONSGML v1.0//EN
CALSCALE:GREGORIAN
BEGIN:VEVENT
LOCATION:
SUMMARY:Join the HUB-IN Alliance!
DESCRIPTION:Join the HUB-IN Alliance!
DTSTART:20221130T110000
DTEND:20221130T120000
URL;VALUE=URI:https://energy-cities.eu/event/hub-in-alliance-webinar/
DTSTAMP:now
UID:65976814435b8
END:VEVENT
END:VCALENDAR