BEGIN:VCALENDAR
VERSION:2.0
PRODID:-//hacksw/handcal//NONSGML v1.0//EN
CALSCALE:GREGORIAN
BEGIN:VEVENT
LOCATION:
SUMMARY:Join us for TOMORROW Masterclass on energy transition roadmapping!
DESCRIPTION:Join us for TOMORROW Masterclass on energy transition roadmapping!
DTSTART:20220406T000000
DTEND:20220407T000000
URL;VALUE=URI:https://energy-cities.eu/event/join-us-for-tomorrow-masterclass-on-energy-transition-roadmapping/
DTSTAMP:now
UID:65976b47d92bd
END:VEVENT
END:VCALENDAR