BEGIN:VCALENDAR
VERSION:2.0
PRODID:-//hacksw/handcal//NONSGML v1.0//EN
CALSCALE:GREGORIAN
BEGIN:VEVENT
LOCATION:
SUMMARY:Journée nationale des collectivités Cit&rsquo\;ergie
DESCRIPTION:Journée nationale des collectivités Cit&rsquo\;ergie
DTSTART:20200526T000000
DTEND:20200526T000000
URL;VALUE=URI:https://energy-cities.eu/fr/evenement/journee-nationale-des-collectivites-citergie/
DTSTAMP:now
UID:659764fab5681
END:VEVENT
END:VCALENDAR