BEGIN:VCALENDAR
VERSION:2.0
PRODID:-//hacksw/handcal//NONSGML v1.0//EN
CALSCALE:GREGORIAN
BEGIN:VEVENT
LOCATION:
SUMMARY:Keeping it Cool with District Cooling
DESCRIPTION:Keeping it Cool with District Cooling
DTSTART:20201013T093000
DTEND:20201013T103000
URL;VALUE=URI:https://energy-cities.eu/event/keeping-it-cool-with-district-cooling/
DTSTAMP:now
UID:6597633171280
END:VEVENT
END:VCALENDAR