BEGIN:VCALENDAR
VERSION:2.0
PRODID:-//hacksw/handcal//NONSGML v1.0//EN
CALSCALE:GREGORIAN
BEGIN:VEVENT
LOCATION:
SUMMARY:Keeping the heat on in time of crisis &#8211\; REPLACE project
DESCRIPTION:Keeping the heat on in time of crisis &#8211\; REPLACE project
DTSTART:20230321T094500
DTEND:20230321T170000
URL;VALUE=URI:https://energy-cities.eu/event/keeping-the-heat-on-in-time-of-crisis-replace-project￼/
DTSTAMP:now
UID:659767a068441
END:VEVENT
END:VCALENDAR