BEGIN:VCALENDAR
VERSION:2.0
PRODID:-//hacksw/handcal//NONSGML v1.0//EN
CALSCALE:GREGORIAN
BEGIN:VEVENT
LOCATION:
SUMMARY:Kick-Off meeting of the 19th European Week of Regions and Cities
DESCRIPTION:Kick-Off meeting of the 19th European Week of Regions and Cities
DTSTART:20210118T100000
DTEND:20210118T120000
URL;VALUE=URI:https://energy-cities.eu/event/kick-off-meeting-of-the-19th-european-week-of-regions-and-cities/
DTSTAMP:now
UID:65976e1212099
END:VEVENT
END:VCALENDAR