BEGIN:VCALENDAR
VERSION:2.0
PRODID:-//hacksw/handcal//NONSGML v1.0//EN
CALSCALE:GREGORIAN
BEGIN:VEVENT
LOCATION:
SUMMARY:L’autoconsommation collective : quelle opportunité pour les territoires ?
DESCRIPTION:L’autoconsommation collective : quelle opportunité pour les territoires ?
DTSTART:20230405T140000
DTEND:20230405T153000
URL;VALUE=URI:https://energy-cities.eu/fr/evenement/lautoconsommation-collective-quelle-opportunite-pour-les-territoires/
DTSTAMP:now
UID:659776b40ae0a
END:VEVENT
END:VCALENDAR