BEGIN:VCALENDAR
VERSION:2.0
PRODID:-//hacksw/handcal//NONSGML v1.0//EN
CALSCALE:GREGORIAN
BEGIN:VEVENT
LOCATION:
SUMMARY:L’implication des citoyen·ne·s pour une meilleure acceptabilité sociale des projets participatifs d’énergie renouvelable
DESCRIPTION:L’implication des citoyen·ne·s pour une meilleure acceptabilité sociale des projets participatifs d’énergie renouvelable
DTSTART:20201214T000000
DTEND:20201215T000000
URL;VALUE=URI:https://energy-cities.eu/fr/evenement/limplication-des-citoyen·ne·s-pour-une-meilleure-acceptabilite-sociale-des-projets-participatifs-denergie-renouvelable/
DTSTAMP:now
UID:65976709d304d
END:VEVENT
END:VCALENDAR