BEGIN:VCALENDAR
VERSION:2.0
PRODID:-//hacksw/handcal//NONSGML v1.0//EN
CALSCALE:GREGORIAN
BEGIN:VEVENT
LOCATION:
SUMMARY:LIFE PlanUp webinar: How green are the national recovery plans?
DESCRIPTION:LIFE PlanUp webinar: How green are the national recovery plans?
DTSTART:20210323T100000
DTEND:20210323T130000
URL;VALUE=URI:https://energy-cities.eu/event/life-planup-webinar-how-green-are-the-national-recovery-plans/
DTSTAMP:now
UID:65976b499ac7c
END:VEVENT
END:VCALENDAR