BEGIN:VCALENDAR
VERSION:2.0
PRODID:-//hacksw/handcal//NONSGML v1.0//EN
CALSCALE:GREGORIAN
BEGIN:VEVENT
LOCATION:
SUMMARY:La Fête des Possibles : Faire commune pour un Monde juste et durable
DESCRIPTION:La Fête des Possibles : Faire commune pour un Monde juste et durable
DTSTART:20210910T000000
DTEND:20210926T000000
URL;VALUE=URI:https://energy-cities.eu/fr/evenement/la-fete-des-possibles-faire-commune-pour-un-monde-juste-et-durable/
DTSTAMP:now
UID:659770e4a9947
END:VEVENT
END:VCALENDAR