BEGIN:VCALENDAR
VERSION:2.0
PRODID:-//hacksw/handcal//NONSGML v1.0//EN
CALSCALE:GREGORIAN
BEGIN:VEVENT
LOCATION:
SUMMARY:La Rochelle Territoire Zéro Carbone
DESCRIPTION:La Rochelle Territoire Zéro Carbone
DTSTART:20201104T110000
DTEND:20201104T003000
URL;VALUE=URI:https://energy-cities.eu/fr/evenement/la-rochelle-territoire-zero-carbone/
DTSTAMP:now
UID:65976b9cdbf11
END:VEVENT
END:VCALENDAR