BEGIN:VCALENDAR
VERSION:2.0
PRODID:-//hacksw/handcal//NONSGML v1.0//EN
CALSCALE:GREGORIAN
BEGIN:VEVENT
LOCATION:
SUMMARY:La coopération\, levier de résilience #2 : Quels prérequis\, avant même de coopérer
DESCRIPTION:La coopération\, levier de résilience #2 : Quels prérequis\, avant même de coopérer
DTSTART:20200409T163000
DTEND:20200409T173000
URL;VALUE=URI:https://energy-cities.eu/fr/evenement/webinaires-la-cooperation-levier-de-resilience/
DTSTAMP:now
UID:6597696d96806
END:VEVENT
END:VCALENDAR