BEGIN:VCALENDAR
VERSION:2.0
PRODID:-//hacksw/handcal//NONSGML v1.0//EN
CALSCALE:GREGORIAN
BEGIN:VEVENT
LOCATION:
SUMMARY:La coopération\, levier de résilience #3 : Les temps nécessaires à la coopération
DESCRIPTION:La coopération\, levier de résilience #3 : Les temps nécessaires à la coopération
DTSTART:20200416T163000
DTEND:20200416T173000
URL;VALUE=URI:https://energy-cities.eu/fr/evenement/la-cooperation-levier-de-resilience-3-les-temps-necessaires-a-la-cooperation/
DTSTAMP:now
UID:65976a94df737
END:VEVENT
END:VCALENDAR