BEGIN:VCALENDAR
VERSION:2.0
PRODID:-//hacksw/handcal//NONSGML v1.0//EN
CALSCALE:GREGORIAN
BEGIN:VEVENT
LOCATION:
SUMMARY:La coopération\, levier de résilience #5 : Coopération et complexité
DESCRIPTION:La coopération\, levier de résilience #5 : Coopération et complexité
DTSTART:20200430T163000
DTEND:20200430T173000
URL;VALUE=URI:https://energy-cities.eu/fr/evenement/la-cooperation-levier-de-resilience-5-cooperation-et-complexite/
DTSTAMP:now
UID:6597673458c1d
END:VEVENT
END:VCALENDAR