BEGIN:VCALENDAR
VERSION:2.0
PRODID:-//hacksw/handcal//NONSGML v1.0//EN
CALSCALE:GREGORIAN
BEGIN:VEVENT
LOCATION:
SUMMARY:La maîtrise locale d’un projet d’énergie renouvelable par la collectivité\, outils et retours d’expériences
DESCRIPTION:La maîtrise locale d’un projet d’énergie renouvelable par la collectivité\, outils et retours d’expériences
DTSTART:20210422T120000
DTEND:20210422T133000
URL;VALUE=URI:https://energy-cities.eu/fr/evenement/la-maitrise-locale-dun-projet-denergie-renouvelable-par-la-collectivite-outils-et-retours-dexperiences/
DTSTAMP:now
UID:65976d52d5297
END:VEVENT
END:VCALENDAR