BEGIN:VCALENDAR
VERSION:2.0
PRODID:-//hacksw/handcal//NONSGML v1.0//EN
CALSCALE:GREGORIAN
BEGIN:VEVENT
LOCATION:
SUMMARY:La transition énergétique en vrai ! Saison 1 &#8211\; « La collectivité consomme »
DESCRIPTION:La transition énergétique en vrai ! Saison 1 &#8211\; « La collectivité consomme »
DTSTART:20210506T000000
DTEND:20210603T000000
URL;VALUE=URI:https://energy-cities.eu/fr/evenement/la-transition-energetique-en-vrai-saison-1-la-collectivite-consomme/
DTSTAMP:now
UID:65976a473e487
END:VEVENT
END:VCALENDAR