BEGIN:VCALENDAR
VERSION:2.0
PRODID:-//hacksw/handcal//NONSGML v1.0//EN
CALSCALE:GREGORIAN
BEGIN:VEVENT
LOCATION:
SUMMARY:La ville surchauffe : planifier contre les îlots de chaleur &#8211\; COMPLET
DESCRIPTION:La ville surchauffe : planifier contre les îlots de chaleur &#8211\; COMPLET
DTSTART:20201204T100000
DTEND:20201204T113000
URL;VALUE=URI:https://energy-cities.eu/fr/evenement/la-ville-surchauffe-planifier-contre-les-ilots-de-chaleur/
DTSTAMP:now
UID:659776aa540db
END:VEVENT
END:VCALENDAR