BEGIN:VCALENDAR
VERSION:2.0
PRODID:-//hacksw/handcal//NONSGML v1.0//EN
CALSCALE:GREGORIAN
BEGIN:VEVENT
LOCATION:
SUMMARY:Lancement du nouveau Fonds citoyen franco-allemand !
DESCRIPTION:Lancement du nouveau Fonds citoyen franco-allemand !
DTSTART:20200630T143000
DTEND:20200630T151500
URL;VALUE=URI:https://energy-cities.eu/fr/evenement/lancement-du-nouveau-fonds-citoyen-franco-allemand/
DTSTAMP:now
UID:65976c8814d4b
END:VEVENT
END:VCALENDAR