BEGIN:VCALENDAR
VERSION:2.0
PRODID:-//hacksw/handcal//NONSGML v1.0//EN
CALSCALE:GREGORIAN
BEGIN:VEVENT
LOCATION:
SUMMARY:Leading the climate transition from the bottom up
DESCRIPTION:Leading the climate transition from the bottom up
DTSTART:20220331T110000
DTEND:20220331T123000
URL;VALUE=URI:https://energy-cities.eu/event/leading-the-climate-transition-from-the-bottom-up/
DTSTAMP:now
UID:65977059a13c8
END:VEVENT
END:VCALENDAR