BEGIN:VCALENDAR
VERSION:2.0
PRODID:-//hacksw/handcal//NONSGML v1.0//EN
CALSCALE:GREGORIAN
BEGIN:VEVENT
LOCATION:
SUMMARY:Les 48h de l&rsquo\;agriculture urbaine
DESCRIPTION:Les 48h de l&rsquo\;agriculture urbaine
DTSTART:20210423T000000
DTEND:20210425T000000
URL;VALUE=URI:https://energy-cities.eu/fr/evenement/les-48h-de-lagriculture-urbaine/
DTSTAMP:now
UID:65976c1d3896a
END:VEVENT
END:VCALENDAR