BEGIN:VCALENDAR
VERSION:2.0
PRODID:-//hacksw/handcal//NONSGML v1.0//EN
CALSCALE:GREGORIAN
BEGIN:VEVENT
LOCATION:
SUMMARY:Les Plans Nationaux de Reprise et Résilience : tournant ou opportunité manquée ?
DESCRIPTION:Les Plans Nationaux de Reprise et Résilience : tournant ou opportunité manquée ?
DTSTART:20210531T140000
DTEND:20210531T150000
URL;VALUE=URI:https://energy-cities.eu/fr/evenement/recovery-and-resilience-plans-game-changer-or-missed-opportunity/
DTSTAMP:now
UID:6597767fd862d
END:VEVENT
END:VCALENDAR