BEGIN:VCALENDAR
VERSION:2.0
PRODID:-//hacksw/handcal//NONSGML v1.0//EN
CALSCALE:GREGORIAN
BEGIN:VEVENT
LOCATION:
SUMMARY:Les Rencontres économiques
DESCRIPTION:Les Rencontres économiques
DTSTART:20200703T000000
DTEND:20200705T000000
URL;VALUE=URI:https://energy-cities.eu/fr/evenement/les-rencontres-economiques/
DTSTAMP:now
UID:65976a9101c39
END:VEVENT
END:VCALENDAR