BEGIN:VCALENDAR
VERSION:2.0
PRODID:-//hacksw/handcal//NONSGML v1.0//EN
CALSCALE:GREGORIAN
BEGIN:VEVENT
LOCATION:
SUMMARY:Les aménagements transitoires : une réelle opportunité pour renforcer les mobilités actives
DESCRIPTION:Les aménagements transitoires : une réelle opportunité pour renforcer les mobilités actives
DTSTART:20200604T140000
DTEND:20200604T153000
URL;VALUE=URI:https://energy-cities.eu/fr/evenement/les-amenagements-transitoires-une-reelle-opportunite-pour-renforcer-les-mobilites-actives/
DTSTAMP:now
UID:659764af1c72d
END:VEVENT
END:VCALENDAR