BEGIN:VCALENDAR
VERSION:2.0
PRODID:-//hacksw/handcal//NONSGML v1.0//EN
CALSCALE:GREGORIAN
BEGIN:VEVENT
LOCATION:
SUMMARY:Les communes et l’énergie citoyenne en France et en Allemagne
DESCRIPTION:Les communes et l’énergie citoyenne en France et en Allemagne
DTSTART:20201020T100000
DTEND:20201020T113000
URL;VALUE=URI:https://energy-cities.eu/fr/evenement/les-communes-et-lenergie-citoyenne-en-france-et-en-allemagne/
DTSTAMP:now
UID:65977048ea413
END:VEVENT
END:VCALENDAR