BEGIN:VCALENDAR
VERSION:2.0
PRODID:-//hacksw/handcal//NONSGML v1.0//EN
CALSCALE:GREGORIAN
BEGIN:VEVENT
LOCATION:
SUMMARY:Les défis comme outils pour encourager la sobriété
DESCRIPTION:Les défis comme outils pour encourager la sobriété
DTSTART:20210624T103000
DTEND:20210624T120000
URL;VALUE=URI:https://energy-cities.eu/fr/evenement/les-defis-comme-outils-pour-encourager-la-sobriete/
DTSTAMP:now
UID:659763134a819
END:VEVENT
END:VCALENDAR