BEGIN:VCALENDAR
VERSION:2.0
PRODID:-//hacksw/handcal//NONSGML v1.0//EN
CALSCALE:GREGORIAN
BEGIN:VEVENT
LOCATION:
SUMMARY:Les municipalités et l’urgence climatique : une comparaison franco-allemande
DESCRIPTION:Les municipalités et l’urgence climatique : une comparaison franco-allemande
DTSTART:20200505T143000
DTEND:20200505T160000
URL;VALUE=URI:https://energy-cities.eu/fr/evenement/les-municipalites-et-lurgence-climatique-une-comparaison-franco-allemande/
DTSTAMP:now
UID:6597767c4161b
END:VEVENT
END:VCALENDAR